BEGIN:VCALENDAR
VERSION:2.0
PRODID:LFV Website-Kit
METHOD:PUBLISH
BEGIN:VEVENT
UID:lfv-72995d10-9ebd-4228-a3cc-b0b4cc0ac8d7
LOCATION:
SUMMARY:Monatsübung Dezember
DESCRIPTION:Monatsübung aller Aktiven\n\nTermin Link: https://ff-duggendorf.de/termine/monatsubung-dezember/
URL:https://ff-duggendorf.de/termine/monatsubung-dezember/
CLASS:PRIVATE
DTSTART;TZID=Europe/Berlin:20251205T183000
DTEND;TZID=Europe/Berlin:20251205T220000
DTSTAMP:20260421T064154Z
END:VEVENT
END:VCALENDAR